Workbook

Sheet 2021
B1: 小教区分析フォーム | H1: 教会名 | R1: 年度
A3: I 構成
A4: 1 | B4: 在籍信徒数
B5: 内 居所不明者数
B7: 内訳 | C7: 在籍者 | D7: 内不明者
B8: 10歳未満
B9: 10代
B10: 20代
B11: 30代
B12: 40代
B13: 50代
B14: 60代
B15: 70代
B16: 80代
B17: 90代以上
A19: 2 | B19: 主日ミサ参加者数
B21: 内訳１ | E21: 日本 | G21: フィリピン | I21: ベトナム | K21: 韓国
C22: 定住合計 | D22: 一時合計 | E22: 定住 | F22: 一時 | G22: 定住 | H22: 一時 | I22: 定住 | J22: 一時 | K22: 定住 | L22: 一時
B23: 10歳未満
B24: 10代
B25: 20代
B26: 30代
B27: 40代
B28: 50代
B29: 60代
B30: 70代
B31: 80代
B32: 90代以上
B33: 合 計
B35: 内訳２
B36: ミサ参加者の内、在籍者以外の人数
A38: Ⅱ 財 政
A39: 1 | B39: 維持費納入者数
B41: 内訳
B42: 年代 | D42: 10歳未満 | E42: 10代 | F42: 20代 | G42: 30代 | H42: 40代 | I42: 50代 | J42: 60代 | K42: 70代 | L42: 80代 | M42: 90代以上
B43: 人数
D44: =D43/SUM(D$43:M$43) -> #DIV/0! | E44: =E43/SUM(D$43:M$43) -> #DIV/0! | F44: =F43/SUM(D$43:M$43) -> #DIV/0! | G44: =G43/SUM(D$43:M$43) -> #DIV/0! | H44: =H43/SUM(D$43:M$43) -> #DIV/0! | I44: =I43/SUM(D$43:M$43) -> #DIV/0! | J44: =J43/SUM(D$43:M$43) -> #DIV/0! | K44: =K43/SUM(D$43:M$43) -> #DIV/0! | L44: =L43/SUM(D$43:M$43) -> #DIV/0! | M44: =M43/SUM(D$43:M$43) -> #DIV/0!
A45: 2 | B45: 維持費収入
A46: 3 | B46: ミサ献金
A47: 4 | B47: 祭儀献金
...

Sheet 2022
B1: 小教区分析フォーム | H1: 教会名 | R1: 年度
A3: I 構成
A4: 1 | B4: 在籍信徒数
B5: 内 居所不明者数
B7: 内訳 | C7: 在籍者 | D7: 内不明者
B8: 10歳未満
B9: 10代
B10: 20代
B11: 30代
B12: 40代
B13: 50代
B14: 60代
B15: 70代
B16: 80代
B17: 90代以上
A19: 2 | B19: 主日ミサ参加者数
B21: 内訳１ | E21: 日本 | G21: フィリピン | I21: ベトナム | K21: 韓国
C22: 定住合計 | D22: 一時合計 | E22: 定住 | F22: 一時 | G22: 定住 | H22: 一時 | I22: 定住 | J22: 一時 | K22: 定住 | L22: 一時
B23: 10歳未満
B24: 10代
B25: 20代
B26: 30代
B27: 40代
B28: 50代
B29: 60代
B30: 70代
B31: 80代
B32: 90代以上
B33: 合 計
B35: 内訳２
B36: ミサ参加者の内、在籍者以外の人数
A38: Ⅱ 財 政
A39: 1 | B39: 維持費納入者数
B41: 内訳
B42: 年代 | D42: 10歳未満 | E42: 10代 | F42: 20代 | G42: 30代 | H42: 40代 | I42: 50代 | J42: 60代 | K42: 70代 | L42: 80代 | M42: 90代以上
B43: 人数 | D43: 0 | E43: 0 | F43: 0 | G43: 0 | H43: 0 | I43: 0 | J43: 0 | K43: 0 | L43: 0 | M43: 0
D44: =D43/SUM(D$43:M$43) -> #DIV/0! | E44: =E43/SUM(D$43:M$43) -> #DIV/0! | F44: =F43/SUM(D$43:M$43) -> #DIV/0! | G44: =G43/SUM(D$43:M$43) -> #DIV/0! | H44: =H43/SUM(D$43:M$43) -> #DIV/0! | I44: =I43/SUM(D$43:M$43) -> #DIV/0! | J44: =J43/SUM(D$43:M$43) -> #DIV/0! | K44: =K43/SUM(D$43:M$43) -> #DIV/0! | L44: =L43/SUM(D$43:M$43) -> #DIV/0! | M44: =M43/SUM(D$43:M$43) -> #DIV/0!
A45: 2 | B45: 維持費収入
A46: 3 | B46: ミサ献金
A47: 4 | B47: 祭儀献金
...

Sheet 2023
B1: 小教区分析フォーム | H1: 教会名 | R1: 年度
A3: I 構成
A4: 1 | B4: 在籍信徒数
B5: 内 居所不明者数
B7: 内訳 | C7: 在籍者 | D7: 内不明者
B8: 10歳未満
B9: 10代
B10: 20代
B11: 30代
B12: 40代
B13: 50代
B14: 60代
B15: 70代
B16: 80代
B17: 90代以上
A19: 2 | B19: 主日ミサ参加者数
B21: 内訳１ | E21: 日本 | G21: フィリピン | I21: ベトナム | K21: 韓国
C22: 定住合計 | D22: 一時合計 | E22: 定住 | F22: 一時 | G22: 定住 | H22: 一時 | I22: 定住 | J22: 一時 | K22: 定住 | L22: 一時
B23: 10歳未満
B24: 10代
B25: 20代
B26: 30代
B27: 40代
B28: 50代
B29: 60代
B30: 70代
B31: 80代
B32: 90代以上
B33: 合 計
B35: 内訳２
B36: ミサ参加者の内、在籍者以外の人数
A38: Ⅱ 財 政
A39: 1 | B39: 維持費納入者数
B41: 内訳
B42: 年代 | D42: 10歳未満 | E42: 10代 | F42: 20代 | G42: 30代 | H42: 40代 | I42: 50代 | J42: 60代 | K42: 70代 | L42: 80代 | M42: 90代以上
B43: 人数 | D43: 0 | E43: 0 | F43: 0 | G43: 0 | H43: 0 | I43: 0 | J43: 0 | K43: 0 | L43: 0 | M43: 0
D44: =D43/SUM(D$43:M$43) -> #DIV/0! | E44: =E43/SUM(D$43:M$43) -> #DIV/0! | F44: =F43/SUM(D$43:M$43) -> #DIV/0! | G44: =G43/SUM(D$43:M$43) -> #DIV/0! | H44: =H43/SUM(D$43:M$43) -> #DIV/0! | I44: =I43/SUM(D$43:M$43) -> #DIV/0! | J44: =J43/SUM(D$43:M$43) -> #DIV/0! | K44: =K43/SUM(D$43:M$43) -> #DIV/0! | L44: =L43/SUM(D$43:M$43) -> #DIV/0! | M44: =M43/SUM(D$43:M$43) -> #DIV/0!
A45: 2 | B45: 維持費収入
A46: 3 | B46: ミサ献金
A47: 4 | B47: 祭儀献金
...

Sheet 2024
B1: 小教区分析フォーム | H1: 教会名 | R1: 年度
A3: I 構成
A4: 1 | B4: 在籍信徒数
B5: 内 居所不明者数
B7: 内訳 | C7: 在籍者 | D7: 内不明者
B8: 10歳未満
B9: 10代
B10: 20代
B11: 30代
B12: 40代
B13: 50代
B14: 60代
B15: 70代
B16: 80代
B17: 90代以上
A19: 2 | B19: 主日ミサ参加者数
B21: 内訳１ | E21: 日本 | G21: フィリピン | I21: ベトナム | K21: 韓国
C22: 定住合計 | D22: 一時合計 | E22: 定住 | F22: 一時 | G22: 定住 | H22: 一時 | I22: 定住 | J22: 一時 | K22: 定住 | L22: 一時
B23: 10歳未満
B24: 10代
B25: 20代
B26: 30代
B27: 40代
B28: 50代
B29: 60代
B30: 70代
B31: 80代
B32: 90代以上
B33: 合 計
B35: 内訳２
B36: ミサ参加者の内、在籍者以外の人数
A38: Ⅱ 財 政
A39: 1 | B39: 維持費納入者数
B41: 内訳
B42: 年代 | D42: 10歳未満 | E42: 10代 | F42: 20代 | G42: 30代 | H42: 40代 | I42: 50代 | J42: 60代 | K42: 70代 | L42: 80代 | M42: 90代以上
B43: 人数 | D43: 0 | E43: 0 | F43: 0 | G43: 0 | H43: 0 | I43: 0 | J43: 0 | K43: 0 | L43: 0 | M43: 0
D44: =D43/SUM(D$43:M$43) -> #DIV/0! | E44: =E43/SUM(D$43:M$43) -> #DIV/0! | F44: =F43/SUM(D$43:M$43) -> #DIV/0! | G44: =G43/SUM(D$43:M$43) -> #DIV/0! | H44: =H43/SUM(D$43:M$43) -> #DIV/0! | I44: =I43/SUM(D$43:M$43) -> #DIV/0! | J44: =J43/SUM(D$43:M$43) -> #DIV/0! | K44: =K43/SUM(D$43:M$43) -> #DIV/0! | L44: =L43/SUM(D$43:M$43) -> #DIV/0! | M44: =M43/SUM(D$43:M$43) -> #DIV/0!
A45: 2 | B45: 維持費収入
A46: 3 | B46: ミサ献金
A47: 4 | B47: 祭儀献金
...

Sheet 2025
B1: 小教区分析フォーム | H1: 教会名 | R1: 年度
A3: I 構成
A4: 1 | B4: 在籍信徒数
B5: 内 居所不明者数
B7: 内訳 | C7: 在籍者 | D7: 内不明者
B8: 10歳未満
B9: 10代
B10: 20代
B11: 30代
B12: 40代
B13: 50代
B14: 60代
B15: 70代
B16: 80代
B17: 90代以上
A19: 2 | B19: 主日ミサ参加者数
B21: 内訳１ | E21: 日本 | G21: フィリピン | I21: ベトナム | K21: 韓国
C22: 定住合計 | D22: 一時合計 | E22: 定住 | F22: 一時 | G22: 定住 | H22: 一時 | I22: 定住 | J22: 一時 | K22: 定住 | L22: 一時
B23: 10歳未満
B24: 10代
B25: 20代
B26: 30代
B27: 40代
B28: 50代
B29: 60代
B30: 70代
B31: 80代
B32: 90代以上
B33: 合 計
B35: 内訳２
B36: ミサ参加者の内、在籍者以外の人数
A38: Ⅱ 財 政
A39: 1 | B39: 維持費納入者数
B41: 内訳
B42: 年代 | D42: 10歳未満 | E42: 10代 | F42: 20代 | G42: 30代 | H42: 40代 | I42: 50代 | J42: 60代 | K42: 70代 | L42: 80代 | M42: 90代以上
B43: 人数 | D43: 0 | E43: 0 | F43: 0 | G43: 0 | H43: 0 | I43: 0 | J43: 0 | K43: 0 | L43: 0 | M43: 0
D44: =D43/SUM(D$43:M$43) -> #DIV/0! | E44: =E43/SUM(D$43:M$43) -> #DIV/0! | F44: =F43/SUM(D$43:M$43) -> #DIV/0! | G44: =G43/SUM(D$43:M$43) -> #DIV/0! | H44: =H43/SUM(D$43:M$43) -> #DIV/0! | I44: =I43/SUM(D$43:M$43) -> #DIV/0! | J44: =J43/SUM(D$43:M$43) -> #DIV/0! | K44: =K43/SUM(D$43:M$43) -> #DIV/0! | L44: =L43/SUM(D$43:M$43) -> #DIV/0! | M44: =M43/SUM(D$43:M$43) -> #DIV/0!
A45: 2 | B45: 維持費収入
A46: 3 | B46: ミサ献金
A47: 4 | B47: 祭儀献金
...

Sheet 2026
B1: 小教区分析フォーム | H1: 教会名 | R1: 年度
A3: I 構成
A4: 1 | B4: 在籍信徒数
B5: 内 居所不明者数
B7: 内訳 | C7: 在籍者 | D7: 内不明者
B8: 10歳未満
B9: 10代
B10: 20代
B11: 30代
B12: 40代
B13: 50代
B14: 60代
B15: 70代
B16: 80代
B17: 90代以上
A19: 2 | B19: 主日ミサ参加者数
B21: 内訳１ | E21: 日本 | G21: フィリピン | I21: ベトナム | K21: 韓国
C22: 定住合計 | D22: 一時合計 | E22: 定住 | F22: 一時 | G22: 定住 | H22: 一時 | I22: 定住 | J22: 一時 | K22: 定住 | L22: 一時
B23: 10歳未満
B24: 10代
B25: 20代
B26: 30代
B27: 40代
B28: 50代
B29: 60代
B30: 70代
B31: 80代
B32: 90代以上
B33: 合 計
B35: 内訳２
B36: ミサ参加者の内、在籍者以外の人数
A38: Ⅱ 財 政
A39: 1 | B39: 維持費納入者数
B41: 内訳
B42: 年代 | D42: 10歳未満 | E42: 10代 | F42: 20代 | G42: 30代 | H42: 40代 | I42: 50代 | J42: 60代 | K42: 70代 | L42: 80代 | M42: 90代以上
B43: 人数 | D43: 0 | E43: 0 | F43: 0 | G43: 0 | H43: 0 | I43: 0 | J43: 0 | K43: 0 | L43: 0 | M43: 0
D44: =D43/SUM(D$43:M$43) -> #DIV/0! | E44: =E43/SUM(D$43:M$43) -> #DIV/0! | F44: =F43/SUM(D$43:M$43) -> #DIV/0! | G44: =G43/SUM(D$43:M$43) -> #DIV/0! | H44: =H43/SUM(D$43:M$43) -> #DIV/0! | I44: =I43/SUM(D$43:M$43) -> #DIV/0! | J44: =J43/SUM(D$43:M$43) -> #DIV/0! | K44: =K43/SUM(D$43:M$43) -> #DIV/0! | L44: =L43/SUM(D$43:M$43) -> #DIV/0! | M44: =M43/SUM(D$43:M$43) -> #DIV/0!
A45: 2 | B45: 維持費収入
A46: 3 | B46: ミサ献金
A47: 4 | B47: 祭儀献金
...

Sheet 2027
B1: 小教区分析フォーム | H1: 教会名 | R1: 年度
A3: I 構成
A4: 1 | B4: 在籍信徒数
B5: 内 居所不明者数
B7: 内訳 | C7: 在籍者 | D7: 内不明者
B8: 10歳未満
B9: 10代
B10: 20代
B11: 30代
B12: 40代
B13: 50代
B14: 60代
B15: 70代
B16: 80代
B17: 90代以上
A19: 2 | B19: 主日ミサ参加者数
B21: 内訳１ | E21: 日本 | G21: フィリピン | I21: ベトナム | K21: 韓国
C22: 定住合計 | D22: 一時合計 | E22: 定住 | F22: 一時 | G22: 定住 | H22: 一時 | I22: 定住 | J22: 一時 | K22: 定住 | L22: 一時
B23: 10歳未満
B24: 10代
B25: 20代
B26: 30代
B27: 40代
B28: 50代
B29: 60代
B30: 70代
B31: 80代
B32: 90代以上
B33: 合 計
B35: 内訳２
B36: ミサ参加者の内、在籍者以外の人数
A38: Ⅱ 財 政
A39: 1 | B39: 維持費納入者数
B41: 内訳
B42: 年代 | D42: 10歳未満 | E42: 10代 | F42: 20代 | G42: 30代 | H42: 40代 | I42: 50代 | J42: 60代 | K42: 70代 | L42: 80代 | M42: 90代以上
B43: 人数 | D43: 0 | E43: 0 | F43: 0 | G43: 0 | H43: 0 | I43: 0 | J43: 0 | K43: 0 | L43: 0 | M43: 0
D44: =D43/SUM(D$43:M$43) -> #DIV/0! | E44: =E43/SUM(D$43:M$43) -> #DIV/0! | F44: =F43/SUM(D$43:M$43) -> #DIV/0! | G44: =G43/SUM(D$43:M$43) -> #DIV/0! | H44: =H43/SUM(D$43:M$43) -> #DIV/0! | I44: =I43/SUM(D$43:M$43) -> #DIV/0! | J44: =J43/SUM(D$43:M$43) -> #DIV/0! | K44: =K43/SUM(D$43:M$43) -> #DIV/0! | L44: =L43/SUM(D$43:M$43) -> #DIV/0! | M44: =M43/SUM(D$43:M$43) -> #DIV/0!
A45: 2 | B45: 維持費収入
A46: 3 | B46: ミサ献金
A47: 4 | B47: 祭儀献金
...

Sheet 2028
B1: 小教区分析フォーム | H1: 教会名 | R1: 年度
A3: I 構成
A4: 1 | B4: 在籍信徒数
B5: 内 居所不明者数
B7: 内訳 | C7: 在籍者 | D7: 内不明者
B8: 10歳未満
B9: 10代
B10: 20代
B11: 30代
B12: 40代
B13: 50代
B14: 60代
B15: 70代
B16: 80代
B17: 90代以上
A19: 2 | B19: 主日ミサ参加者数
B21: 内訳１ | E21: 日本 | G21: フィリピン | I21: ベトナム | K21: 韓国
C22: 定住合計 | D22: 一時合計 | E22: 定住 | F22: 一時 | G22: 定住 | H22: 一時 | I22: 定住 | J22: 一時 | K22: 定住 | L22: 一時
B23: 10歳未満
B24: 10代
B25: 20代
B26: 30代
B27: 40代
B28: 50代
B29: 60代
B30: 70代
B31: 80代
B32: 90代以上
B33: 合 計
B35: 内訳２
B36: ミサ参加者の内、在籍者以外の人数
A38: Ⅱ 財 政
A39: 1 | B39: 維持費納入者数
B41: 内訳
B42: 年代 | D42: 10歳未満 | E42: 10代 | F42: 20代 | G42: 30代 | H42: 40代 | I42: 50代 | J42: 60代 | K42: 70代 | L42: 80代 | M42: 90代以上
B43: 人数 | D43: 0 | E43: 0 | F43: 0 | G43: 0 | H43: 0 | I43: 0 | J43: 0 | K43: 0 | L43: 0 | M43: 0
D44: =D43/SUM(D$43:M$43) -> #DIV/0! | E44: =E43/SUM(D$43:M$43) -> #DIV/0! | F44: =F43/SUM(D$43:M$43) -> #DIV/0! | G44: =G43/SUM(D$43:M$43) -> #DIV/0! | H44: =H43/SUM(D$43:M$43) -> #DIV/0! | I44: =I43/SUM(D$43:M$43) -> #DIV/0! | J44: =J43/SUM(D$43:M$43) -> #DIV/0! | K44: =K43/SUM(D$43:M$43) -> #DIV/0! | L44: =L43/SUM(D$43:M$43) -> #DIV/0! | M44: =M43/SUM(D$43:M$43) -> #DIV/0!
A45: 2 | B45: 維持費収入
A46: 3 | B46: ミサ献金
A47: 4 | B47: 祭儀献金
...

Sheet 2029
B1: 小教区分析フォーム | H1: 教会名 | R1: 年度
A3: I 構成
A4: 1 | B4: 在籍信徒数
B5: 内 居所不明者数
B7: 内訳 | C7: 在籍者 | D7: 内不明者
B8: 10歳未満
B9: 10代
B10: 20代
B11: 30代
B12: 40代
B13: 50代
B14: 60代
B15: 70代
B16: 80代
B17: 90代以上
A19: 2 | B19: 主日ミサ参加者数
B21: 内訳１ | E21: 日本 | G21: フィリピン | I21: ベトナム | K21: 韓国
C22: 定住合計 | D22: 一時合計 | E22: 定住 | F22: 一時 | G22: 定住 | H22: 一時 | I22: 定住 | J22: 一時 | K22: 定住 | L22: 一時
B23: 10歳未満
B24: 10代
B25: 20代
B26: 30代
B27: 40代
B28: 50代
B29: 60代
B30: 70代
B31: 80代
B32: 90代以上
B33: 合 計
B35: 内訳２
B36: ミサ参加者の内、在籍者以外の人数
A38: Ⅱ 財 政
A39: 1 | B39: 維持費納入者数
B41: 内訳
B42: 年代 | D42: 10歳未満 | E42: 10代 | F42: 20代 | G42: 30代 | H42: 40代 | I42: 50代 | J42: 60代 | K42: 70代 | L42: 80代 | M42: 90代以上
B43: 人数 | D43: 0 | E43: 0 | F43: 0 | G43: 0 | H43: 0 | I43: 0 | J43: 0 | K43: 0 | L43: 0 | M43: 0
D44: =D43/SUM(D$43:M$43) -> #DIV/0! | E44: =E43/SUM(D$43:M$43) -> #DIV/0! | F44: =F43/SUM(D$43:M$43) -> #DIV/0! | G44: =G43/SUM(D$43:M$43) -> #DIV/0! | H44: =H43/SUM(D$43:M$43) -> #DIV/0! | I44: =I43/SUM(D$43:M$43) -> #DIV/0! | J44: =J43/SUM(D$43:M$43) -> #DIV/0! | K44: =K43/SUM(D$43:M$43) -> #DIV/0! | L44: =L43/SUM(D$43:M$43) -> #DIV/0! | M44: =M43/SUM(D$43:M$43) -> #DIV/0!
A45: 2 | B45: 維持費収入
A46: 3 | B46: ミサ献金
A47: 4 | B47: 祭儀献金
...

Sheet 2030
B1: 小教区分析フォーム | H1: 教会名 | R1: 年度
A3: I 構成
A4: 1 | B4: 在籍信徒数
B5: 内 居所不明者数
B7: 内訳 | C7: 在籍者 | D7: 内不明者
B8: 10歳未満
B9: 10代
B10: 20代
B11: 30代
B12: 40代
B13: 50代
B14: 60代
B15: 70代
B16: 80代
B17: 90代以上
A19: 2 | B19: 主日ミサ参加者数
B21: 内訳１ | E21: 日本 | G21: フィリピン | I21: ベトナム | K21: 韓国
C22: 定住合計 | D22: 一時合計 | E22: 定住 | F22: 一時 | G22: 定住 | H22: 一時 | I22: 定住 | J22: 一時 | K22: 定住 | L22: 一時
B23: 10歳未満
B24: 10代
B25: 20代
B26: 30代
B27: 40代
B28: 50代
B29: 60代
B30: 70代
B31: 80代
B32: 90代以上
B33: 合 計
B35: 内訳２
B36: ミサ参加者の内、在籍者以外の人数
A38: Ⅱ 財 政
A39: 1 | B39: 維持費納入者数
B41: 内訳
B42: 年代 | D42: 10歳未満 | E42: 10代 | F42: 20代 | G42: 30代 | H42: 40代 | I42: 50代 | J42: 60代 | K42: 70代 | L42: 80代 | M42: 90代以上
B43: 人数 | D43: 0 | E43: 0 | F43: 0 | G43: 0 | H43: 0 | I43: 0 | J43: 0 | K43: 0 | L43: 0 | M43: 0
D44: =D43/SUM(D$43:M$43) -> #DIV/0! | E44: =E43/SUM(D$43:M$43) -> #DIV/0! | F44: =F43/SUM(D$43:M$43) -> #DIV/0! | G44: =G43/SUM(D$43:M$43) -> #DIV/0! | H44: =H43/SUM(D$43:M$43) -> #DIV/0! | I44: =I43/SUM(D$43:M$43) -> #DIV/0! | J44: =J43/SUM(D$43:M$43) -> #DIV/0! | K44: =K43/SUM(D$43:M$43) -> #DIV/0! | L44: =L43/SUM(D$43:M$43) -> #DIV/0! | M44: =M43/SUM(D$43:M$43) -> #DIV/0!
A45: 2 | B45: 維持費収入
A46: 3 | B46: ミサ献金
A47: 4 | B47: 祭儀献金
...

Sheet 2031
B1: 小教区分析フォーム | H1: 教会名 | R1: 年度
A3: I 構成
A4: 1
B5: 内 居所不明者数
B7: 内訳 | C7: 在籍者 | D7: 内不明者
B8: 10歳未満
B9: 10代
B10: 20代
B11: 30代
B12: 40代
B13: 50代
B14: 60代
B15: 70代
B16: 80代
B17: 90代以上
A19: 2 | B19: 主日ミサ参加者数
B21: 内訳１ | E21: 日本 | G21: フィリピン | I21: ベトナム | K21: 韓国
C22: 定住合計 | D22: 一時合計 | E22: 定住 | F22: 一時 | G22: 定住 | H22: 一時 | I22: 定住 | J22: 一時 | K22: 定住 | L22: 一時
B23: 10歳未満
B24: 10代
B25: 20代
B26: 30代
B27: 40代
B28: 50代
B29: 60代
B30: 70代
B31: 80代
B32: 90代以上
B33: 合 計
B35: 内訳２
B36: ミサ参加者の内、在籍者以外の人数
A38: Ⅱ 財 政
A39: 1 | B39: 維持費納入者数
B41: 内訳
B42: 年代 | D42: 10歳未満 | E42: 10代 | F42: 20代 | G42: 30代 | H42: 40代 | I42: 50代 | J42: 60代 | K42: 70代 | L42: 80代 | M42: 90代以上
B43: 人数 | D43: 0 | E43: 0 | F43: 0 | G43: 0 | H43: 0 | I43: 0 | J43: 0 | K43: 0 | L43: 0 | M43: 0
D44: =D43/SUM(D$43:M$43) -> #DIV/0! | E44: =E43/SUM(D$43:M$43) -> #DIV/0! | F44: =F43/SUM(D$43:M$43) -> #DIV/0! | G44: =G43/SUM(D$43:M$43) -> #DIV/0! | H44: =H43/SUM(D$43:M$43) -> #DIV/0! | I44: =I43/SUM(D$43:M$43) -> #DIV/0! | J44: =J43/SUM(D$43:M$43) -> #DIV/0! | K44: =K43/SUM(D$43:M$43) -> #DIV/0! | L44: =L43/SUM(D$43:M$43) -> #DIV/0! | M44: =M43/SUM(D$43:M$43) -> #DIV/0!
A45: 2 | B45: 維持費収入
A46: 3 | B46: ミサ献金
A47: 4 | B47: 祭儀献金
...

Sheet 集計
A1: 在籍信徒数
B2: 在籍者 | C2: 不明者
A3: 2021 | B3: ='2021'!D4 -> 0 | C3: ='2021'!D5 -> 0
A4: 2022 | B4: ='2022'!D4 -> 0 | C4: ='2022'!D5 -> 0
A5: 2023 | B5: ='2023'!D4 -> 0 | C5: ='2023'!D5 -> 0
A6: 2024 | B6: ='2024'!D4 -> 0 | C6: ='2024'!D5 -> 0
A7: 2025 | B7: ='2025'!D4 -> 0 | C7: ='2025'!D5 -> 0
A8: 2026 | B8: ='2026'!D4 -> 0 | C8: ='2026'!D5 -> 0
A9: 2027 | B9: ='2027'!D4 -> 0 | C9: ='2027'!D5 -> 0
A10: 2028 | B10: ='2028'!D4 -> 0 | C10: ='2028'!D5 -> 0
A11: 2029 | B11: ='2029'!D4 -> 0 | C11: ='2029'!D5 -> 0
A12: 2030 | B12: ='2030'!D4 -> 0 | C12: ='2030'!D5 -> 0
A13: 2031 | B13: ='2031'!D4 -> 0 | C13: ='2031'!D5 -> 0
A15: 主日ミサ参加者数
B16: 参加者 | C16: 在籍以外
A17: 2021 | B17: ='2021'!D19 -> 0 | C17: ='2021'!D36 -> 0
A18: 2022 | B18: ='2022'!D19 -> 0 | C18: ='2022'!D36 -> 0
A19: 2023 | B19: ='2023'!D19 -> 0 | C19: ='2023'!D36 -> 0
A20: 2024 | B20: ='2024'!D19 -> 0 | C20: ='2024'!D36 -> 0
A21: 2025 | B21: ='2025'!D19 -> 0 | C21: ='2025'!D36 -> 0
A22: 2026 | B22: ='2026'!D19 -> 0 | C22: ='2026'!D36 -> 0
A23: 2027 | B23: ='2027'!D19 -> 0 | C23: ='2027'!D36 -> 0
A24: 2028 | B24: ='2028'!D19 -> 0 | C24: ='2028'!D36 -> 0
A25: 2029 | B25: ='2029'!D19 -> 0 | C25: ='2029'!D36 -> 0
A26: 2030 | B26: ='2030'!D19 -> 0 | C26: ='2030'!D36 -> 0
A27: 2031 | B27: ='2031'!D19 -> 0 | C27: ='2031'!D36 -> 0
A29: 献金
B30: 維持費 | C30: 納入者数 | D30: ミサ献金
A31: 2021 | B31: ='2021'!D45 -> 0 | C31: ='2021'!D39 -> 0 | D31: ='2021'!D46 -> 0
A32: 2022 | B32: ='2022'!D45 -> 0 | C32: ='2022'!D39 -> 0 | D32: ='2022'!D46 -> 0
A33: 2023 | B33: ='2023'!D45 -> 0 | C33: ='2023'!D39 -> 0 | D33: ='2023'!D46 -> 0
A34: 2024 | B34: ='2024'!D45 -> 0 | C34: ='2024'!D39 -> 0 | D34: ='2024'!D46 -> 0
A35: 2025 | B35: ='2025'!D45 -> 0 | C35: ='2025'!D39 -> 0 | D35: ='2025'!D46 -> 0
A36: 2026 | B36: ='2026'!D45 -> 0 | C36: ='2026'!D39 -> 0 | D36: ='2026'!D46 -> 0
A37: 2027 | B37: ='2027'!D45 -> 0 | C37: ='2027'!D39 -> 0 | D37: ='2027'!D46 -> 0
A38: 2028 | B38: ='2028'!D45 -> 0 | C38: ='2028'!D39 -> 0 | D38: ='2028'!D46 -> 0
A39: 2029 | B39: ='2029'!D45 -> 0 | C39: ='2029'!D39 -> 0 | D39: ='2029'!D46 -> 0
A40: 2030 | B40: ='2030'!D45 -> 0 | C40: ='2030'!D39 -> 0 | D40: ='2030'!D46 -> 0
A41: 2031 | B41: ='2031'!D45 -> 0 | C41: ='2031'!D39 -> 0 | D41: ='2031'!D46 -> 0
A44: 一般会計繰越額
...
